BEGIN:VCALENDAR
VERSION:2.0
PRODID:-//ActiveBury//Events//EN
CALSCALE:GREGORIAN
BEGIN:VEVENT
UID:event-1707@activebury.com
DTSTAMP:20260425T133418Z
SUMMARY:March Madness Mac & Cheese
DTSTART:20260303T160000
DTEND:20260303T173000
LOCATION:Crisfield Library\, 100 Collins St\, Crisfield\, MD 21817\, USA
DESCRIPTION:Teens\, come and enjoy some mac &amp\; cheese with a choice of toppings and stay to play board games.\nMore info: https://somelibrary.org/\nActiveBury: https://www.activebury.com/events/1707
URL:https://www.activebury.com/events/1707
END:VEVENT
END:VCALENDAR
