BEGIN:VCALENDAR
VERSION:2.0
PRODID:-//ActiveBury//Events//EN
CALSCALE:GREGORIAN
BEGIN:VEVENT
UID:event-1705@activebury.com
DTSTAMP:20260425T152033Z
SUMMARY:Job Resources: Resumes
DTSTART:20260303T110000
DTEND:20260303T120000
DESCRIPTION:Need help learning how to write a resume or needto update your resume? Join us to learn about resume basics. Registrationrequired.\nMore info: https://somelibrary.org/\nActiveBury: https://www.activebury.com/events/1705
URL:https://www.activebury.com/events/1705
END:VEVENT
END:VCALENDAR
