BEGIN:VCALENDAR
VERSION:2.0
PRODID:-//ActiveBury//Events//EN
CALSCALE:GREGORIAN
BEGIN:VEVENT
UID:event-1702@activebury.com
DTSTAMP:20260425T134400Z
SUMMARY:Toddler Art-St. Patrick's Day Handprint Rainbow
DTSTART:20260302T103000
DTEND:20260302T111500
LOCATION:Princess Anne Library\, 11767 Beechwood St\, Princess Anne\, MD 21853\, USA
DESCRIPTION:March-St. Patrick&#39\;s Day Handprint Rainbow<br><br>Join us for a fun-filled toddler art class! Unleash your creativity together and create colorful memories on canvas. All materials plus snacks are provided. <u>Registration Required.</u> Recommended ages under 5.\nMore info: https://somelibrary.org/\nActiveBury: https://www.activebury.com/events/1702
URL:https://www.activebury.com/events/1702
END:VEVENT
END:VCALENDAR
