BEGIN:VCALENDAR
VERSION:2.0
PRODID:-//ActiveBury//Events//EN
CALSCALE:GREGORIAN
BEGIN:VEVENT
UID:event-17@activebury.com
DTSTAMP:20260425T133300Z
SUMMARY:West Salisbury School
DTSTART:20260106T090000
DTEND:20260106T150000
LOCATION:Bookmobile
DESCRIPTION:This event is in the "Everyone" group 9:00am–3:00pm Everyone Bookmobile Offsite Event This event is in the "Everyone" group Jan 6 2026 Tue West Salisbury School 9:00am–3:00pm Bookmobile Please note you are looking at an event that has already happened. Bookmobile Everyone 1321 West Road\nMore info: https://www.wicomicolibrary.org/event/west-salisbury-school-20096\nActiveBury: https://www.activebury.com/events/17
URL:https://www.activebury.com/events/17
END:VEVENT
END:VCALENDAR
