BEGIN:VCALENDAR
VERSION:2.0
PRODID:-//ActiveBury//Events//EN
CALSCALE:GREGORIAN
BEGIN:VEVENT
UID:event-1699@activebury.com
DTSTAMP:20260425T133328Z
SUMMARY:Read Across America class visit
DTSTART:20260305T131500
DTEND:20260305T144500
LOCATION:Off Site
DESCRIPTION:This event is in the "Ages 0-5" group 1:15pm–2:45pm Ages 0-5 Off Site Offsite Event This event is in the "Ages 0-5" group Mar 5 2026 Thu Read Across America class visit 1:15pm–2:45pm Off Site Please note you are looking at an event that has already happened. Off Site Ages 0-5 Special Events \, Storytime School visit to do a read-aloud in support of Read Across America\nMore info: https://www.wicomicolibrary.org/event/read-across-america-class-visit-24001\nActiveBury: https://www.activebury.com/events/1699
URL:https://www.activebury.com/events/1699
END:VEVENT
END:VCALENDAR
