BEGIN:VCALENDAR
VERSION:2.0
PRODID:-//ActiveBury//Events//EN
CALSCALE:GREGORIAN
BEGIN:VEVENT
UID:event-1698@activebury.com
DTSTAMP:20260425T133419Z
SUMMARY:Read Across America class visit
DTSTART:20260304T110000
DTEND:20260304T120000
LOCATION:Off Site
DESCRIPTION:This event is in the "Ages 0-5" group 11:00am–12:00pm Ages 0-5 Off Site Offsite Event This event is in the "Ages 0-5" group Mar 4 2026 Wed Read Across America class visit 11:00am–12:00pm Off Site Please note you are looking at an event that has already happened. Off Site Ages 0-5 Special Events \, Storytime School visit to do a read-aloud in support of Read Across America\nMore info: https://www.wicomicolibrary.org/event/read-across-america-class-visit-24000\nActiveBury: https://www.activebury.com/events/1698
URL:https://www.activebury.com/events/1698
END:VEVENT
END:VCALENDAR
