BEGIN:VCALENDAR
VERSION:2.0
PRODID:-//ActiveBury//Events//EN
CALSCALE:GREGORIAN
BEGIN:VEVENT
UID:event-1686@activebury.com
DTSTAMP:20260425T134547Z
SUMMARY:STORYTIME AT THE MANSION
DTSTART:20260718T110000
LOCATION:Poplar Hill Mansion\, Salisbury\, MD
DESCRIPTION:July 18th at 11:00. Bring the kids to Poplar Hill Mansion and join Karen Earp\, from the Wicomico County Library\, Paul Sarbanes Branch\, for Storytime at the Mansion. It’s National Ice Cream Day and that is the theme for our story! We’ll be reading stories\, singing songs\, and have an activity for the children to take with them. Poppy\, the Poplar Hill Sheep will be helping too! The best part is that immediately following storytime\, we’ll be serving ice cream sundaes with all the toppings! I scream\, you scream\, we all scream for ice cream at this FREE event at PHM! SUMMERWEEN\nMore info: https://poplarhillmansion.org/events/\nActiveBury: https://www.activebury.com/events/1686
URL:https://www.activebury.com/events/1686
END:VEVENT
END:VCALENDAR
