BEGIN:VCALENDAR
VERSION:2.0
PRODID:-//ActiveBury//Events//EN
CALSCALE:GREGORIAN
BEGIN:VEVENT
UID:event-1685@activebury.com
DTSTAMP:20260425T133814Z
SUMMARY:OC Cruzers Car Shows on Somerset Plaza
DTSTART;VALUE=DATE:20260614
DTEND;VALUE=DATE:20260914
LOCATION:Ocean City Development Corporation | 108 Dorchester Street - Ocean City\, MD\, 21842
DESCRIPTION:Join the OC Cruzers Car Club for a free\, family friendly car show set up along the charming Somerset Plaza (just steps of the Boardwalk on Somerset...\nMore info: https://www.ococean.com/event/oc-cruzers-car-shows-on-somerset-plaza/2672/\nActiveBury: https://www.activebury.com/events/1685
URL:https://www.activebury.com/events/1685
END:VEVENT
END:VCALENDAR
