BEGIN:VCALENDAR
VERSION:2.0
PRODID:-//ActiveBury//Events//EN
CALSCALE:GREGORIAN
BEGIN:VEVENT
UID:event-1682@activebury.com
DTSTAMP:20260425T152834Z
SUMMARY:OCDC Pancake Breakfast
DTSTART;VALUE=DATE:20260322
DTEND;VALUE=DATE:20260323
LOCATION:Dough Roller on the Boardwalk at S. Division St. | 108 Dorchester Street - Ocean City\, MD\, 21842
DESCRIPTION:OCDC Pancake Breakfast in honor of the Trimper Family All you can eat pancakes\, sausage and soda for only $10. Kids 8 and under FREE Sunday\, March 22\,...\nMore info: https://www.ococean.com/event/ocdc-pancake-breakfast/2673/\nActiveBury: https://www.activebury.com/events/1682
URL:https://www.activebury.com/events/1682
END:VEVENT
END:VCALENDAR
