BEGIN:VCALENDAR
VERSION:2.0
PRODID:-//ActiveBury//Events//EN
CALSCALE:GREGORIAN
BEGIN:VEVENT
UID:event-1680@activebury.com
DTSTAMP:20260425T192525Z
SUMMARY:Four Hands Dinner: Chef Michael Rendell & Chef Giuseppe Mantarro
DTSTART;VALUE=DATE:20260318
DTEND;VALUE=DATE:20260319
LOCATION:Windmill Creek Winery & Farm Kitchen | 11206 Worcester Hwy - Berlin\, MD\, 21811
DESCRIPTION:It’s a guided\, coursed experience built around classic Italian flavors\, seasonal ingredients\, and wine pairings that tell a story. Two chefs. One...\nMore info: https://www.ococean.com/event/four-hands-dinner%3a-chef-michael-rendell-%26-chef-giuseppe-mantarro/2669/\nActiveBury: https://www.activebury.com/events/1680
URL:https://www.activebury.com/events/1680
END:VEVENT
END:VCALENDAR
