BEGIN:VCALENDAR
VERSION:2.0
PRODID:-//ActiveBury//Events//EN
CALSCALE:GREGORIAN
BEGIN:VEVENT
UID:event-1679@activebury.com
DTSTAMP:20260425T133843Z
SUMMARY:First Friday Opening Reception: March 2026
DTSTART;VALUE=DATE:20260306
DTEND;VALUE=DATE:20260307
LOCATION:Art League of Ocean City Center for the Arts | 502 94th St. - Ocean City\, MD\, 21842
DESCRIPTION:Meet the artists\, enjoy hors d’oeuvres\, and see the new exhibits by a variety of local and regional artists. FREE. All are welcome. Food donated by...\nMore info: https://www.ococean.com/event/first-friday-opening-reception%3a-march-2026/2675/\nActiveBury: https://www.activebury.com/events/1679
URL:https://www.activebury.com/events/1679
END:VEVENT
END:VCALENDAR
