BEGIN:VCALENDAR
VERSION:2.0
PRODID:-//ActiveBury//Events//EN
CALSCALE:GREGORIAN
BEGIN:VEVENT
UID:event-1677@activebury.com
DTSTAMP:20260425T133907Z
SUMMARY:The Hub SBY - Jam Session (Vol. 3)
DTSTART;VALUE=DATE:20260718
DTEND;VALUE=DATE:20260719
LOCATION:Downtown Salisbury
DESCRIPTION:More info: https://s3.amazonaws.com/bb-cms/AppData/Websites/1180/www.thehubsby.com\nActiveBury: https://www.activebury.com/events/1677
URL:https://www.activebury.com/events/1677
END:VEVENT
END:VCALENDAR
