BEGIN:VCALENDAR
VERSION:2.0
PRODID:-//ActiveBury//Events//EN
CALSCALE:GREGORIAN
BEGIN:VEVENT
UID:event-1676@activebury.com
DTSTAMP:20260425T133331Z
SUMMARY:3rd Friday - MD 250
DTSTART;VALUE=DATE:20260717
DTEND;VALUE=DATE:20260718
LOCATION:Downtown Salisbury
DESCRIPTION:More info: https://www.3rdfridaysby.com/\nActiveBury: https://www.activebury.com/events/1676
URL:https://www.activebury.com/events/1676
END:VEVENT
END:VCALENDAR
