BEGIN:VCALENDAR
VERSION:2.0
PRODID:-//ActiveBury//Events//EN
CALSCALE:GREGORIAN
BEGIN:VEVENT
UID:event-1675@activebury.com
DTSTAMP:20260425T133905Z
SUMMARY:The Hub SBY - Effective Communication (Hosted by Jordan Ray)
DTSTART;VALUE=DATE:20260707
DTEND;VALUE=DATE:20260708
LOCATION:Downtown Salisbury
DESCRIPTION:More info: https://s3.amazonaws.com/bb-cms/AppData/Websites/1180/www.thehubsby.com\nActiveBury: https://www.activebury.com/events/1675
URL:https://www.activebury.com/events/1675
END:VEVENT
END:VCALENDAR
