BEGIN:VCALENDAR
VERSION:2.0
PRODID:-//ActiveBury//Events//EN
CALSCALE:GREGORIAN
BEGIN:VEVENT
UID:event-1674@activebury.com
DTSTAMP:20260425T133840Z
SUMMARY:Red\, White\, and Boom
DTSTART;VALUE=DATE:20260704
DTEND;VALUE=DATE:20260705
LOCATION:Downtown Salisbury
DESCRIPTION:Join us for the Red White and Boom fireworks show in Salisbury! Gates open at 6:00 PM and fireworks start at 9:15 PM.\nMore info: https://redwhiteboomsalisbury.org/\nActiveBury: https://www.activebury.com/events/1674
URL:https://www.activebury.com/events/1674
END:VEVENT
END:VCALENDAR
