BEGIN:VCALENDAR
VERSION:2.0
PRODID:-//ActiveBury//Events//EN
CALSCALE:GREGORIAN
BEGIN:VEVENT
UID:event-1673@activebury.com
DTSTAMP:20260425T133846Z
SUMMARY:Tales Of the Globe - Blending Cultures
DTSTART:20260321T150000
DTEND:20260321T170000
LOCATION:Downtown Salisbury
DESCRIPTION:ales Of the Globe – A Celebration of Cultures! ✨🌍\nBlending Cultures Society invites you to a joyful afternoon of stories\, creativity\, and culture at Unity Square!\n🎭 Puppet Shows by Kids\nChildren from India\, Nepal\, China\, and Nigeria will bring traditional tales to life through beautiful puppet performances — a true global experience!\n🍿 Free Popcorn for All Kids (and kids at heart!)\n📅 March 21st\n⏰ 3:00 PM\n📍 Unity Square\n🎉 FREE event | Open to everyone\nBring your family\, friends\, and neighbors and enjoy an afternoon filled with storytelling\, laughter\, and cultural connection.\nMore info: https://www.facebook.com/share/14YwoZsX3Kw/\nActiveBury: https://www.activebury.com/events/1673
URL:https://www.activebury.com/events/1673
END:VEVENT
END:VCALENDAR
