BEGIN:VCALENDAR
VERSION:2.0
PRODID:-//ActiveBury//Events//EN
CALSCALE:GREGORIAN
BEGIN:VEVENT
UID:event-1671@activebury.com
DTSTAMP:20260425T133306Z
SUMMARY:Greene Turtle Shells and Shamrocks
DTSTART;VALUE=DATE:20260317
DTEND;VALUE=DATE:20260318
LOCATION:Downtown Salisbury
DESCRIPTION:More info: https://www.thegreeneturtle.com/\nActiveBury: https://www.activebury.com/events/1671
URL:https://www.activebury.com/events/1671
END:VEVENT
END:VCALENDAR
