BEGIN:VCALENDAR
VERSION:2.0
PRODID:-//ActiveBury//Events//EN
CALSCALE:GREGORIAN
BEGIN:VEVENT
UID:event-1670@activebury.com
DTSTAMP:20260425T133327Z
SUMMARY:Tim Kennard River Run
DTSTART;VALUE=DATE:20260301
DTEND;VALUE=DATE:20260302
LOCATION:Downtown Salisbury
DESCRIPTION:More info: https://timkennard.org/\nActiveBury: https://www.activebury.com/events/1670
URL:https://www.activebury.com/events/1670
END:VEVENT
END:VCALENDAR
