BEGIN:VCALENDAR
VERSION:2.0
PRODID:-//ActiveBury//Events//EN
CALSCALE:GREGORIAN
BEGIN:VEVENT
UID:event-1669@activebury.com
DTSTAMP:20260425T182321Z
SUMMARY:Rob's Run
DTSTART;VALUE=DATE:20260228
DTEND;VALUE=DATE:20260301
LOCATION:Downtown Salisbury
DESCRIPTION:More info: https://www.facebook.com/events/953948080439770\nActiveBury: https://www.activebury.com/events/1669
URL:https://www.activebury.com/events/1669
END:VEVENT
END:VCALENDAR
