BEGIN:VCALENDAR
VERSION:2.0
PRODID:-//ActiveBury//Events//EN
CALSCALE:GREGORIAN
BEGIN:VEVENT
UID:event-1668@activebury.com
DTSTAMP:20260425T133948Z
SUMMARY:Laser Make-and-Take: Personalized Easter Basket Tags
DTSTART:20260321T140000
DTEND:20260321T160000
LOCATION:Delmarva Makerspace Salisbury MD
DESCRIPTION:Laser Make-and-Take: Personalized Easter Basket Tags – Delmarva Makerspace Home Equipment Events Posts Connect FAQ Log In Laser Make-and-Take: Personalized Easter Basket Tags Join us at Delmarva Makerspace to create your own custom laser-cut wooden Easter basket tag! In this hands-on workshop\, you’ll: Choose your name Watch the laser engrave and cut your carrot tag Paint your design Add ribbon Leave with a finished\, personalized keepsake ready for Easter morning 🐰 No experience needed — we’ll guide you through every step! The event is finished. Date Mar 21 2026 Expired! Time 14:00 - 16:00 Location Delmarva Makerspace Salisbury MD Category Fundraiser Outreach Workshop Organizer Delmarva Makerspace Email [email protected] Website https://delmarvamakerspace.org Speaker Yancy Wharton Yancy Wharton Share this event Delmarva Makerspace is a program of the Make Delmarva Foundation\, Inc\, a nationally registered 501(c)(3) EIN: 84-2661105 © 2026 Make Delmarva Foundation\, Inc Secure Checkout Your data is securely handled by our partners\nMore info: https://delmarvamakerspace.org/events/laser-make-and-take-personalized-easter-basket-tags/\nActiveBury: https://www.activebury.com/events/1668
URL:https://www.activebury.com/events/1668
END:VEVENT
END:VCALENDAR
