BEGIN:VCALENDAR
VERSION:2.0
PRODID:-//ActiveBury//Events//EN
CALSCALE:GREGORIAN
BEGIN:VEVENT
UID:event-1667@activebury.com
DTSTAMP:20260425T153425Z
SUMMARY:Tuesday Night BookClub
DTSTART:20260721T180000
DTEND:20260721T210000
LOCATION:Central Branch Denton
DESCRIPTION:Jul 21 2026 Tue Tuesday Night BookClub 6:00pm–9:00pm Jul 21 2026 Tue Tuesday Night BookClub 6:00pm–9:00pm This is not a library sponsored event. Library Branch: Central Branch Denton Room: Small Meeting Room Purpose of Meeting Bookclub\nMore info: https://carolinecounty.librarycalendar.com/event/tuesday-night-bookclub-2782\nActiveBury: https://www.activebury.com/events/1667
URL:https://www.activebury.com/events/1667
END:VEVENT
END:VCALENDAR
