BEGIN:VCALENDAR
VERSION:2.0
PRODID:-//ActiveBury//Events//EN
CALSCALE:GREGORIAN
BEGIN:VEVENT
UID:event-1666@activebury.com
DTSTAMP:20260425T134530Z
SUMMARY:Federalsburg Bookies
DTSTART:20260721T130000
DTEND:20260721T140000
LOCATION:Federalsburg Branch
DESCRIPTION:Federalsburg Bookies book discussion group meets in person at the Federalsburg Branch Library on the third Tuesday of each month at 1pm. This group reads a variety of fiction.\nMore info: https://carolinecounty.librarycalendar.com/event/federalsburg-bookies-2520\nActiveBury: https://www.activebury.com/events/1666
URL:https://www.activebury.com/events/1666
END:VEVENT
END:VCALENDAR
