BEGIN:VCALENDAR
VERSION:2.0
PRODID:-//ActiveBury//Events//EN
CALSCALE:GREGORIAN
BEGIN:VEVENT
UID:event-1665@activebury.com
DTSTAMP:20260425T133328Z
SUMMARY:Holiday Closing
DTSTART;VALUE=DATE:20260704
DTEND;VALUE=DATE:20260705
DESCRIPTION:Jul 4 2026 Sat Holiday Closing All Day Closing Jul 4 2026 Sat Closing Holiday Closing All Day Branches: Central Branch Denton\, Federalsburg Branch\, North County Branch Greensboro\, Off Site\, Outreach Description: Holiday Closing\nMore info: https://carolinecounty.librarycalendar.com/event/holiday-closing-1221\nActiveBury: https://www.activebury.com/events/1665
URL:https://www.activebury.com/events/1665
END:VEVENT
END:VCALENDAR
