BEGIN:VCALENDAR
VERSION:2.0
PRODID:-//ActiveBury//Events//EN
CALSCALE:GREGORIAN
BEGIN:VEVENT
UID:event-1664@activebury.com
DTSTAMP:20260425T134408Z
SUMMARY:Mother's Day Charcuterie Workshop
DTSTART:20260510T130000
DTEND:20260510T150000
LOCATION:Bordeleau Vineyard & Winery\, 3155 Noble Farm Road\, Eden\, MD 21822
DESCRIPTION:Enjoy a live performance by Tin Pan Alley at Bordeleau Vineyard & Winery. Join us for an afternoon of music and relaxation in our tasting room.\nMore info: https://www.bordeleauwine.com/events\nActiveBury: https://www.activebury.com/events/1664
URL:https://www.activebury.com/events/1664
END:VEVENT
END:VCALENDAR
