BEGIN:VCALENDAR
VERSION:2.0
PRODID:-//ActiveBury//Events//EN
CALSCALE:GREGORIAN
BEGIN:VEVENT
UID:event-1663@activebury.com
DTSTAMP:20260426T013713Z
SUMMARY:St Patrick's Day Celebration
DTSTART;VALUE=DATE:20260315
DTEND;VALUE=DATE:20260316
LOCATION:Bordeleau Vineyard & Winery\, 3155 Noble Farm Road\, Eden\, MD 21822
DESCRIPTION:More info: https://www.bordeleauwine.com/events\nActiveBury: https://www.activebury.com/events/1663
URL:https://www.activebury.com/events/1663
END:VEVENT
END:VCALENDAR
