BEGIN:VCALENDAR
VERSION:2.0
PRODID:-//ActiveBury//Events//EN
CALSCALE:GREGORIAN
BEGIN:VEVENT
UID:event-1662@activebury.com
DTSTAMP:20260425T143123Z
SUMMARY:Show All
DTSTART:20260301T090000
DTEND:20260301T170000
DESCRIPTION:More info: https://worcesterlibrary.libcal.com/calendar/Library_Events\nActiveBury: https://www.activebury.com/events/1662
URL:https://www.activebury.com/events/1662
END:VEVENT
END:VCALENDAR
