BEGIN:VCALENDAR
VERSION:2.0
PRODID:-//ActiveBury//Events//EN
CALSCALE:GREGORIAN
BEGIN:VEVENT
UID:event-1661@activebury.com
DTSTAMP:20260425T133434Z
SUMMARY:Pajama Story Time
DTSTART:20260311T183000
DTEND:20260311T190000
LOCATION:Berlin Branch Branch: Berlin Branch Audience: Birth to 5 Categories: Storytime
DESCRIPTION:Wear your pajamas and bring your favorite stuffie to snuggle while you enjoy stories and songs to wind down to bedtime. For children aged 0-5. 410-641-0650.\nMore info: https://worcesterlibrary.libcal.com/event/15992263?hs=a\nActiveBury: https://www.activebury.com/events/1661
URL:https://www.activebury.com/events/1661
END:VEVENT
END:VCALENDAR
