BEGIN:VCALENDAR
VERSION:2.0
PRODID:-//ActiveBury//Events//EN
CALSCALE:GREGORIAN
BEGIN:VEVENT
UID:event-1660@activebury.com
DTSTAMP:20260425T134530Z
SUMMARY:Family Upcycle Craft Night
DTSTART:20260311T160000
DTEND:20260311T170000
LOCATION:Ocean City Meeting Room Branch: Ocean City Branch Audience: Families Categories: Crafts
DESCRIPTION:Join us at the library for an eco-friendly craft night repurposing old t-shirts and more! Supplies provided\, but feel free to bring your own items. For families. 410-524-1818\nMore info: https://worcesterlibrary.libcal.com/event/15886812?hs=a\nActiveBury: https://www.activebury.com/events/1660
URL:https://www.activebury.com/events/1660
END:VEVENT
END:VCALENDAR
