BEGIN:VCALENDAR
VERSION:2.0
PRODID:-//ActiveBury//Events//EN
CALSCALE:GREGORIAN
BEGIN:VEVENT
UID:event-166@activebury.com
DTSTAMP:20260425T133252Z
SUMMARY:East Salisbury School
DTSTART:20260204T091500
DTEND:20260204T150000
LOCATION:Bookmobile
DESCRIPTION:This event is in the "Everyone" group 9:15am–3:00pm Everyone Bookmobile Offsite Event This event is in the "Everyone" group Feb 4 2026 Wed East Salisbury School 9:15am–3:00pm Bookmobile Please note you are looking at an event that has already happened. Bookmobile Everyone 1201 Old Ocean City Rd\nMore info: https://www.wicomicolibrary.org/event/east-salisbury-school-20106\nActiveBury: https://www.activebury.com/events/166
URL:https://www.activebury.com/events/166
END:VEVENT
END:VCALENDAR
