BEGIN:VCALENDAR
VERSION:2.0
PRODID:-//ActiveBury//Events//EN
CALSCALE:GREGORIAN
BEGIN:VEVENT
UID:event-1656@activebury.com
DTSTAMP:20260425T134001Z
SUMMARY:MD 250 Event- Regency and Victorian Games at the Snow Hill 50 Plus Center
DTSTART:20260311T110000
DTEND:20260311T130000
LOCATION:Offsite - See Description Branch: Snow Hill Branch Categories: Discussion Games
DESCRIPTION:Join us at the Snow Hill 50 plus center located at 4767 Snow Hill Rd\, Snow Hill\, MD 21863 to learn about Regency and Victorian games\, and play a few that are still around today.\nMore info: https://worcesterlibrary.libcal.com/event/15642888?hs=a\nActiveBury: https://www.activebury.com/events/1656
URL:https://www.activebury.com/events/1656
END:VEVENT
END:VCALENDAR
