BEGIN:VCALENDAR
VERSION:2.0
PRODID:-//ActiveBury//Events//EN
CALSCALE:GREGORIAN
BEGIN:VEVENT
UID:event-1652@activebury.com
DTSTAMP:20260425T133841Z
SUMMARY:MD 250 Event- Book Club at Tides & Vine
DTSTART:20260310T180000
DTEND:20260310T190000
LOCATION:Offsite - See Description Branch: Snow Hill Branch Audience: Adults Categories: Discussion
DESCRIPTION:Join us at Tides & Vine for our mont hly book club. This month's book will be The Wager by David Grann . Tides & Vine: 106 W. Green Street Snow HIll\, MD 21863. Stop by the Snow Hill Branch to pick up your book\, then join us for the discussion. Must be 21. 410-632-3495\nMore info: https://worcesterlibrary.libcal.com/event/15049957?hs=a\nActiveBury: https://www.activebury.com/events/1652
URL:https://www.activebury.com/events/1652
END:VEVENT
END:VCALENDAR
