BEGIN:VCALENDAR
VERSION:2.0
PRODID:-//ActiveBury//Events//EN
CALSCALE:GREGORIAN
BEGIN:VEVENT
UID:event-1650@activebury.com
DTSTAMP:20260425T133420Z
SUMMARY:Getting Ready for Spring!
DTSTART:20260310T140000
DTEND:20260310T150000
LOCATION:Ocean City Meeting Room Branch: Ocean City Branch Audience: Adults Categories: Lecture/Presentation
DESCRIPTION:Spring is the beginning of growth! Lawns grow dark green blades of grass\, spring blooming shrubs and trees show off their colorful flowers\, annual and perennial flowers bloom and welcome our native pollinators including butterflies of all sizes and colors\, and it's also the time to plant vegetable gardens. Learn how to grow a healthy lawn\, care for your shrubs and trees\, annual and perennial flowers and vegetables on a scale that suits your needs.\nMore info: https://worcesterlibrary.libcal.com/event/15862600?hs=a\nActiveBury: https://www.activebury.com/events/1650
URL:https://www.activebury.com/events/1650
END:VEVENT
END:VCALENDAR
