BEGIN:VCALENDAR
VERSION:2.0
PRODID:-//ActiveBury//Events//EN
CALSCALE:GREGORIAN
BEGIN:VEVENT
UID:event-1648@activebury.com
DTSTAMP:20260425T133419Z
SUMMARY:Music and Movement
DTSTART:20260310T103000
DTEND:20260310T113000
LOCATION:Pocomoke Branch Branch: Pocomoke Branch Audience: Birth to 5 Categories: Music and Movement
DESCRIPTION:Sing silly songs\, play rhythmic instruments and move to the beat. For ages 0-5. 410-957-0878.\nMore info: https://worcesterlibrary.libcal.com/event/16169495?hs=a\nActiveBury: https://www.activebury.com/events/1648
URL:https://www.activebury.com/events/1648
END:VEVENT
END:VCALENDAR
