BEGIN:VCALENDAR
VERSION:2.0
PRODID:-//ActiveBury//Events//EN
CALSCALE:GREGORIAN
BEGIN:VEVENT
UID:event-1647@activebury.com
DTSTAMP:20260425T133420Z
SUMMARY:Baby Time
DTSTART:20260310T103000
DTEND:20260310T113000
LOCATION:Snow Hill Meeting Room Branch: Snow Hill Branch Audience: Birth to 5 Categories: Storytime Summer Reading
DESCRIPTION:Babies under 2 & caregivers join us for songs\, rhymes\, and stories! Stay after to socialize with other families.\nMore info: https://worcesterlibrary.libcal.com/event/15865346?hs=a\nActiveBury: https://www.activebury.com/events/1647
URL:https://www.activebury.com/events/1647
END:VEVENT
END:VCALENDAR
