BEGIN:VCALENDAR
VERSION:2.0
PRODID:-//ActiveBury//Events//EN
CALSCALE:GREGORIAN
BEGIN:VEVENT
UID:event-1646@activebury.com
DTSTAMP:20260425T133418Z
SUMMARY:Story Time
DTSTART:20260310T103000
DTEND:20260310T110000
LOCATION:Berlin Branch Branch: Berlin Branch Audience: Birth to 5 Families Categories: Storytime
DESCRIPTION:Join us for an all-ages story time featuring seasonal themes designed to support early literacy skills with stories\, songs\, and movement. 410-641-0650.\nMore info: https://worcesterlibrary.libcal.com/event/15991755?hs=a\nActiveBury: https://www.activebury.com/events/1646
URL:https://www.activebury.com/events/1646
END:VEVENT
END:VCALENDAR
