BEGIN:VCALENDAR
VERSION:2.0
PRODID:-//ActiveBury//Events//EN
CALSCALE:GREGORIAN
BEGIN:VEVENT
UID:event-1640@activebury.com
DTSTAMP:20260425T133327Z
SUMMARY:Writing for Wellness
DTSTART:20260309T133000
DTEND:20260309T150000
LOCATION:Ocean Pines Conference Room Branch: Ocean Pines Branch Audience: Adults Categories: Writing
DESCRIPTION:Writing about stressful experiences like illness may boost health & psychological well-being. This group uses exercises to stimulate creative expression. Susan Bashore facilitates this program. 410-208-4014\nMore info: https://worcesterlibrary.libcal.com/event/14907104?hs=a\nActiveBury: https://www.activebury.com/events/1640
URL:https://www.activebury.com/events/1640
END:VEVENT
END:VCALENDAR
