BEGIN:VCALENDAR
VERSION:2.0
PRODID:-//ActiveBury//Events//EN
CALSCALE:GREGORIAN
BEGIN:VEVENT
UID:event-1638@activebury.com
DTSTAMP:20260425T133428Z
SUMMARY:Babytime
DTSTART:20260309T100000
DTEND:20260309T103000
LOCATION:Ocean Pines Branch Branch: Ocean Pines Branch Audience: Birth to 5 Categories: Music and Movement
DESCRIPTION:Join us for songs\, giggles and a story! Ages 0-2. 410-208-4014\nMore info: https://worcesterlibrary.libcal.com/event/15127129?hs=a\nActiveBury: https://www.activebury.com/events/1638
URL:https://www.activebury.com/events/1638
END:VEVENT
END:VCALENDAR
