BEGIN:VCALENDAR
VERSION:2.0
PRODID:-//ActiveBury//Events//EN
CALSCALE:GREGORIAN
BEGIN:VEVENT
UID:event-1637@activebury.com
DTSTAMP:20260425T133901Z
SUMMARY:Mario Scavenger Hunt
DTSTART:20260309T090000
DTEND:20260309T170000
LOCATION:Ocean Pines Branch Branch: Ocean Pines Branch Audience: 6 to 11 Categories: Games
DESCRIPTION:Help! Mario and his friends are lost in the library! Can you find them all and solve the riddle? Winners take a trip tp the treasure box! Ages 5 and up. 410-208-4014\nMore info: https://worcesterlibrary.libcal.com/event/15979763?hs=a\nActiveBury: https://www.activebury.com/events/1637
URL:https://www.activebury.com/events/1637
END:VEVENT
END:VCALENDAR
