BEGIN:VCALENDAR
VERSION:2.0
PRODID:-//ActiveBury//Events//EN
CALSCALE:GREGORIAN
BEGIN:VEVENT
UID:event-1636@activebury.com
DTSTAMP:20260425T133946Z
SUMMARY:Her Words\, Her World
DTSTART:20260309T090000
DTEND:20260309T170000
LOCATION:Ocean Pines Branch Branch: Ocean Pines Branch Audience: 12 to 18 6 to 11 Categories: Writing
DESCRIPTION:Celebrate Women’s History Month! Drop in and pick up a poster to fill out about a famous woman and return it to the library by March 17th to be put on display. Posters will be voted on and the winner will receive a prize! For ages 6-11 and 12-18. 410-208-4014.\nMore info: https://worcesterlibrary.libcal.com/event/15966228?hs=a\nActiveBury: https://www.activebury.com/events/1636
URL:https://www.activebury.com/events/1636
END:VEVENT
END:VCALENDAR
