BEGIN:VCALENDAR
VERSION:2.0
PRODID:-//ActiveBury//Events//EN
CALSCALE:GREGORIAN
BEGIN:VEVENT
UID:event-1634@activebury.com
DTSTAMP:20260425T133416Z
SUMMARY:Leprechaun Trap
DTSTART:20260307T110000
DTEND:20260307T130000
LOCATION:Ocean Pines Large Meeting Room Branch: Ocean Pines Branch Audience: 6 to 11 Families Categories: Crafts
DESCRIPTION:Are you crafty enough to build a trap that can catch a leprechaun? Bring your imagination\, roll up your sleeves and get busy! Ages 6-11. 410-208-4014\nMore info: https://worcesterlibrary.libcal.com/event/15744904?hs=a\nActiveBury: https://www.activebury.com/events/1634
URL:https://www.activebury.com/events/1634
END:VEVENT
END:VCALENDAR
