BEGIN:VCALENDAR
VERSION:2.0
PRODID:-//ActiveBury//Events//EN
CALSCALE:GREGORIAN
BEGIN:VEVENT
UID:event-1633@activebury.com
DTSTAMP:20260425T133326Z
SUMMARY:Saturday Writers
DTSTART:20260307T100000
DTEND:20260307T130000
LOCATION:Berlin Branch Branch: Berlin Branch Audience: Adults Categories: Writing
DESCRIPTION:Novice and established writers gather to share their fiction\, non-fiction\, and creative writing projects. Structure includes critiques and appreciation\, market leads and writing exercises. Drop-ins welcome! 410-641-0650\nMore info: https://worcesterlibrary.libcal.com/event/15955955?hs=a\nActiveBury: https://www.activebury.com/events/1633
URL:https://www.activebury.com/events/1633
END:VEVENT
END:VCALENDAR
