BEGIN:VCALENDAR
VERSION:2.0
PRODID:-//ActiveBury//Events//EN
CALSCALE:GREGORIAN
BEGIN:VEVENT
UID:event-1630@activebury.com
DTSTAMP:20260425T143027Z
SUMMARY:Teen Pizza and Paint Night
DTSTART:20260306T180000
DTEND:20260306T200000
LOCATION:Pocomoke Branch Branch: Pocomoke Branch Audience: 12 to 18 Categories: Arts
DESCRIPTION:Bring your friends and join us for pizza and painting on canvas. Registration necessary. For ages 12-18. 410-957-0878.\nMore info: https://worcesterlibrary.libcal.com/event/16172558?hs=a\nActiveBury: https://www.activebury.com/events/1630
URL:https://www.activebury.com/events/1630
END:VEVENT
END:VCALENDAR
