BEGIN:VCALENDAR
VERSION:2.0
PRODID:-//ActiveBury//Events//EN
CALSCALE:GREGORIAN
BEGIN:VEVENT
UID:event-1628@activebury.com
DTSTAMP:20260425T133954Z
SUMMARY:Movie Matinee: F1 The Movie
DTSTART:20260306T140000
DTEND:20260306T160000
LOCATION:Ocean Pines Large Meeting Room Branch: Ocean Pines Branch Audience: Adults Categories: Film/Movie
DESCRIPTION:Missed it in theaters? Come catch a movie you may have wanted to see.\nMore info: https://worcesterlibrary.libcal.com/event/15057612?hs=a\nActiveBury: https://www.activebury.com/events/1628
URL:https://www.activebury.com/events/1628
END:VEVENT
END:VCALENDAR
