BEGIN:VCALENDAR
VERSION:2.0
PRODID:-//ActiveBury//Events//EN
CALSCALE:GREGORIAN
BEGIN:VEVENT
UID:event-1627@activebury.com
DTSTAMP:20260425T134537Z
SUMMARY:Currently Reading Book Club (CRBC)
DTSTART:20260306T130000
DTEND:20260306T140000
LOCATION:Ocean Pines Branch Branch: Ocean Pines Branch Audience: Adults Categories: Discussion
DESCRIPTION:Join the best book club around! You will never read a monthly book\, just drop in to this club to discuss what you are currently reading and share it with the group. Don’t know what to read next? Here’s the best way to get some great ideas. 410-208-4014\nMore info: https://worcesterlibrary.libcal.com/event/15874487?hs=a\nActiveBury: https://www.activebury.com/events/1627
URL:https://www.activebury.com/events/1627
END:VEVENT
END:VCALENDAR
