BEGIN:VCALENDAR
VERSION:2.0
PRODID:-//ActiveBury//Events//EN
CALSCALE:GREGORIAN
BEGIN:VEVENT
UID:event-1622@activebury.com
DTSTAMP:20260425T133323Z
SUMMARY:Comic Book Club
DTSTART:20260305T163000
DTEND:20260305T173000
LOCATION:Ocean Pines Large Meeting Room Branch: Ocean Pines Branch Audience: 6 to 11 Categories: Crafts Writing
DESCRIPTION:Crash! Bang! Pow! Learn about comics and create your own. No experience required. Ages 8 and up. 410-208-4014\nMore info: https://worcesterlibrary.libcal.com/event/14925097?hs=a\nActiveBury: https://www.activebury.com/events/1622
URL:https://www.activebury.com/events/1622
END:VEVENT
END:VCALENDAR
