BEGIN:VCALENDAR
VERSION:2.0
PRODID:-//ActiveBury//Events//EN
CALSCALE:GREGORIAN
BEGIN:VEVENT
UID:event-1619@activebury.com
DTSTAMP:20260425T133957Z
SUMMARY:Irish Heritage Film Screening
DTSTART:20260305T140000
DTEND:20260305T150000
LOCATION:Berlin Meeting Room Branch: Berlin Branch Audience: Adults Categories: Film/Movie
DESCRIPTION:Mike Healy hosts this screening with two shorts he created. TRAD is about traditional Irish Music and Still Standing explores stone circles\, round towers and high crosses. Q&A to follow.\nMore info: https://worcesterlibrary.libcal.com/event/16207868?hs=a\nActiveBury: https://www.activebury.com/events/1619
URL:https://www.activebury.com/events/1619
END:VEVENT
END:VCALENDAR
