BEGIN:VCALENDAR
VERSION:2.0
PRODID:-//ActiveBury//Events//EN
CALSCALE:GREGORIAN
BEGIN:VEVENT
UID:event-1618@activebury.com
DTSTAMP:20260425T133430Z
SUMMARY:OC Chess Club
DTSTART:20260305T103000
DTEND:20260305T120000
LOCATION:Ocean City Meeting Room Branch: Ocean City Branch Audience: Families Categories: Games
DESCRIPTION:Enjoy a relaxing game of chess every month at the library! 410-524-1818\nMore info: https://worcesterlibrary.libcal.com/event/15885621?hs=a\nActiveBury: https://www.activebury.com/events/1618
URL:https://www.activebury.com/events/1618
END:VEVENT
END:VCALENDAR
