BEGIN:VCALENDAR
VERSION:2.0
PRODID:-//ActiveBury//Events//EN
CALSCALE:GREGORIAN
BEGIN:VEVENT
UID:event-1616@activebury.com
DTSTAMP:20260425T133429Z
SUMMARY:Playtime
DTSTART:20260305T103000
DTEND:20260305T113000
LOCATION:Snow Hill Meeting Room Branch: Snow Hill Branch Audience: Birth to 5 Categories: Games
DESCRIPTION:Join us for a variety of activities and toys. Play and socialize with other families. Ages 2-5.\nMore info: https://worcesterlibrary.libcal.com/event/15953605?hs=a\nActiveBury: https://www.activebury.com/events/1616
URL:https://www.activebury.com/events/1616
END:VEVENT
END:VCALENDAR
