BEGIN:VCALENDAR
VERSION:2.0
PRODID:-//ActiveBury//Events//EN
CALSCALE:GREGORIAN
BEGIN:VEVENT
UID:event-1613@activebury.com
DTSTAMP:20260425T133745Z
SUMMARY:Community Journal:Tell Her Story
DTSTART;VALUE=DATE:20260302
DTEND;VALUE=DATE:20260303
LOCATION:Pocomoke Branch Branch: Pocomoke Branch Audience: Families Categories: Writing
DESCRIPTION:Use the provided journal pages\, story sheets\, and drawing pages to tell the story about a woman who inspires you. All Ages 410-957-0878\nMore info: https://worcesterlibrary.libcal.com/event/15883386?hs=a\nActiveBury: https://www.activebury.com/events/1613
URL:https://www.activebury.com/events/1613
END:VEVENT
END:VCALENDAR
