BEGIN:VCALENDAR
VERSION:2.0
PRODID:-//ActiveBury//Events//EN
CALSCALE:GREGORIAN
BEGIN:VEVENT
UID:event-1612@activebury.com
DTSTAMP:20260425T133959Z
SUMMARY:OC Reads: The View from Lake Como by Adriana Trigiani
DTSTART;VALUE=DATE:20260301
DTEND;VALUE=DATE:20260302
LOCATION:Ocean City Branch Branch: Ocean City Branch Audience: Adults Categories: Discussion
DESCRIPTION:No sit‑down discussion—just you\, the book\, and your thoughts! Simply pick up a copy of this month's read\, The View from Lake Como by Adriana Trigiani. Come in by March 30 to share your impressions and enter into the drawing to win free books! 410-524-1818\nMore info: https://worcesterlibrary.libcal.com/event/15939496?hs=a\nActiveBury: https://www.activebury.com/events/1612
URL:https://www.activebury.com/events/1612
END:VEVENT
END:VCALENDAR
